BEGIN:VCALENDAR
VERSION:2.0
PRODID:-// - ECPv6.15.20//NONSGML v1.0//EN
CALSCALE:GREGORIAN
METHOD:PUBLISH
X-ORIGINAL-URL:https://chesapeakestationhoa.org
X-WR-CALDESC:Events for 
REFRESH-INTERVAL;VALUE=DURATION:PT1H
X-Robots-Tag:noindex
X-PUBLISHED-TTL:PT1H
BEGIN:VTIMEZONE
TZID:America/New_York
BEGIN:DAYLIGHT
TZOFFSETFROM:-0500
TZOFFSETTO:-0400
TZNAME:EDT
DTSTART:20220313T070000
END:DAYLIGHT
BEGIN:STANDARD
TZOFFSETFROM:-0400
TZOFFSETTO:-0500
TZNAME:EST
DTSTART:20221106T060000
END:STANDARD
BEGIN:DAYLIGHT
TZOFFSETFROM:-0500
TZOFFSETTO:-0400
TZNAME:EDT
DTSTART:20230312T070000
END:DAYLIGHT
BEGIN:STANDARD
TZOFFSETFROM:-0400
TZOFFSETTO:-0500
TZNAME:EST
DTSTART:20231105T060000
END:STANDARD
BEGIN:DAYLIGHT
TZOFFSETFROM:-0500
TZOFFSETTO:-0400
TZNAME:EDT
DTSTART:20240310T070000
END:DAYLIGHT
BEGIN:STANDARD
TZOFFSETFROM:-0400
TZOFFSETTO:-0500
TZNAME:EST
DTSTART:20241103T060000
END:STANDARD
END:VTIMEZONE
BEGIN:VEVENT
DTSTART;TZID=America/New_York:20230812T160000
DTEND;TZID=America/New_York:20230812T190000
DTSTAMP:20260424T024155
CREATED:20230630T144643Z
LAST-MODIFIED:20230801T214834Z
UID:2761-1691856000-1691866800@chesapeakestationhoa.org
SUMMARY:Luau On The Beach
DESCRIPTION:Our Social Committee has firmed up plans for the Luau! \nThe date is Saturday\, August 12th from 4:00PM-7:00PM with a rain date of the following day from 3:00PM-6:00PM.  Location will be the lawn next to our private beach (in front of 4004/4006 Arcade Ct.).  There will be: \n\nLive Music\nPulled Pork BBQ\nSelf Serve TIKI Bar with Do-it-yourself Drink Menus\nGames\n\nGuests are encouraged to bring an entree\, side item and/or dessert.  Come and enjoy the fun! \nResidents and Owners only\, please.
URL:https://chesapeakestationhoa.org/event/luau-on-the-beach/
END:VEVENT
END:VCALENDAR