BEGIN:VCALENDAR
VERSION:2.0
PRODID:-// - ECPv6.15.20//NONSGML v1.0//EN
CALSCALE:GREGORIAN
METHOD:PUBLISH
X-ORIGINAL-URL:https://chesapeakestationhoa.org
X-WR-CALDESC:Events for 
REFRESH-INTERVAL;VALUE=DURATION:PT1H
X-Robots-Tag:noindex
X-PUBLISHED-TTL:PT1H
BEGIN:VTIMEZONE
TZID:America/New_York
BEGIN:DAYLIGHT
TZOFFSETFROM:-0500
TZOFFSETTO:-0400
TZNAME:EDT
DTSTART:20230312T070000
END:DAYLIGHT
BEGIN:STANDARD
TZOFFSETFROM:-0400
TZOFFSETTO:-0500
TZNAME:EST
DTSTART:20231105T060000
END:STANDARD
BEGIN:DAYLIGHT
TZOFFSETFROM:-0500
TZOFFSETTO:-0400
TZNAME:EDT
DTSTART:20240310T070000
END:DAYLIGHT
BEGIN:STANDARD
TZOFFSETFROM:-0400
TZOFFSETTO:-0500
TZNAME:EST
DTSTART:20241103T060000
END:STANDARD
BEGIN:DAYLIGHT
TZOFFSETFROM:-0500
TZOFFSETTO:-0400
TZNAME:EDT
DTSTART:20250309T070000
END:DAYLIGHT
BEGIN:STANDARD
TZOFFSETFROM:-0400
TZOFFSETTO:-0500
TZNAME:EST
DTSTART:20251102T060000
END:STANDARD
END:VTIMEZONE
BEGIN:VEVENT
DTSTART;TZID=America/New_York:20240615T080000
DTEND;TZID=America/New_York:20240615T120000
DTSTAMP:20260423T072545
CREATED:20240605T134315Z
LAST-MODIFIED:20240605T134637Z
UID:2889-1718438400-1718452800@chesapeakestationhoa.org
SUMMARY:Yard Sale
DESCRIPTION:It’s about that time of year again – SPRING CLEANING. \nWhile we are going through those closets and drawers\, we usually end up with a box full of items that we haven’t used for over a year or longer.  Which means it is time for a Yard Sale!!! \nTwo of our residents\, Jean Muller and Amanda Jolly have planned a yard sale and are soliciting CSHOA residents who would like to participate so that we can advertise it as a Community Yard Sale.  The dates are Saturday June 15 and Sunday June 16\, 8:00AM-12:00PM. \nIf you would like to participate\, contact Jean Muller at joje34@verizon.net. \nFor the items that don’t sell\, some suggestions are:\nOur local Help Thrift Store at the Y (260 & Mt. Harmony)\nGreen Drop Donation PickUp (Internet schedule or call 888.944.3767\nOr Your favorite charity
URL:https://chesapeakestationhoa.org/event/yard-sale/
END:VEVENT
END:VCALENDAR