BEGIN:VCALENDAR
VERSION:2.0
PRODID:-// - ECPv6.15.20//NONSGML v1.0//EN
CALSCALE:GREGORIAN
METHOD:PUBLISH
X-ORIGINAL-URL:https://chesapeakestationhoa.org
X-WR-CALDESC:Events for 
REFRESH-INTERVAL;VALUE=DURATION:PT1H
X-Robots-Tag:noindex
X-PUBLISHED-TTL:PT1H
BEGIN:VTIMEZONE
TZID:America/New_York
BEGIN:DAYLIGHT
TZOFFSETFROM:-0500
TZOFFSETTO:-0400
TZNAME:EDT
DTSTART:20240310T070000
END:DAYLIGHT
BEGIN:STANDARD
TZOFFSETFROM:-0400
TZOFFSETTO:-0500
TZNAME:EST
DTSTART:20241103T060000
END:STANDARD
BEGIN:DAYLIGHT
TZOFFSETFROM:-0500
TZOFFSETTO:-0400
TZNAME:EDT
DTSTART:20250309T070000
END:DAYLIGHT
BEGIN:STANDARD
TZOFFSETFROM:-0400
TZOFFSETTO:-0500
TZNAME:EST
DTSTART:20251102T060000
END:STANDARD
BEGIN:DAYLIGHT
TZOFFSETFROM:-0500
TZOFFSETTO:-0400
TZNAME:EDT
DTSTART:20260308T070000
END:DAYLIGHT
BEGIN:STANDARD
TZOFFSETFROM:-0400
TZOFFSETTO:-0500
TZNAME:EST
DTSTART:20261101T060000
END:STANDARD
BEGIN:DAYLIGHT
TZOFFSETFROM:-0500
TZOFFSETTO:-0400
TZNAME:EDT
DTSTART:20270314T070000
END:DAYLIGHT
BEGIN:STANDARD
TZOFFSETFROM:-0400
TZOFFSETTO:-0500
TZNAME:EST
DTSTART:20271107T060000
END:STANDARD
END:VTIMEZONE
BEGIN:VEVENT
DTSTART;TZID=America/New_York:20250206T180000
DTEND;TZID=America/New_York:20250206T200000
DTSTAMP:20260422T185126
CREATED:20250131T181617Z
LAST-MODIFIED:20250131T181617Z
UID:3041-1738864800-1738872000@chesapeakestationhoa.org
SUMMARY:Monthly Board Meeting
DESCRIPTION:Microsoft Teams meeting – Thursday\, 2/6/2025\, 6:00 p.m. \nJoin on your computer or mobile app \nClick here to join the meeting \nOr call in (audio only) \n321-754-9506 Phone Conference ID: 308 468 11#
URL:https://chesapeakestationhoa.org/event/monthly-board-meeting-11/
LOCATION:Microsoft Teams
END:VEVENT
BEGIN:VEVENT
DTSTART;TZID=America/New_York:20250306T180000
DTEND;TZID=America/New_York:20250306T200000
DTSTAMP:20260422T185126
CREATED:20250306T184949Z
LAST-MODIFIED:20250306T184949Z
UID:3056-1741284000-1741291200@chesapeakestationhoa.org
SUMMARY:Monthly Board Meeting
DESCRIPTION:Microsoft Teams meeting – Thursday\, 3/6/2025\, 6:00 p.m. \nJoin on your computer or mobile app \nClick here to join the meeting \nOr call in (audio only) \n321-754-9506 Phone Conference ID: 308 468 11#
URL:https://chesapeakestationhoa.org/event/monthly-board-meeting-12/
LOCATION:Microsoft Teams
END:VEVENT
BEGIN:VEVENT
DTSTART;TZID=America/New_York:20250507T190000
DTEND;TZID=America/New_York:20250507T203000
DTSTAMP:20260422T185126
CREATED:20250418T162724Z
LAST-MODIFIED:20250430T173656Z
UID:3064-1746644400-1746649800@chesapeakestationhoa.org
SUMMARY:Monthly Board Meeting
DESCRIPTION:Microsoft Teams meeting – Wednesday\, 5/7/2025\, 7:00PM \nJoin on your computer or mobile app \nClick here to join the meeting \nOr call in (audio only) \n321-754-9506 Phone Conference ID: 308 468 11#
URL:https://chesapeakestationhoa.org/event/monthly-board-meeting-13/
END:VEVENT
BEGIN:VEVENT
DTSTART;TZID=America/New_York:20250604T190000
DTEND;TZID=America/New_York:20250604T210000
DTSTAMP:20260422T185126
CREATED:20250525T193049Z
LAST-MODIFIED:20250525T193049Z
UID:3085-1749063600-1749070800@chesapeakestationhoa.org
SUMMARY:Monthly Board Meeting
DESCRIPTION:Microsoft Teams meeting – Wednesday\, 6/4/2025\, 7:00PM \nJoin on your computer or mobile app \nClick here to join the meeting \nOr call in (audio only) \n321-754-9506 Phone Conference ID: 308 468 11#
URL:https://chesapeakestationhoa.org/event/monthly-board-meeting-14/
LOCATION:Microsoft Teams
END:VEVENT
BEGIN:VEVENT
DTSTART;TZID=America/New_York:20250628T170000
DTEND;TZID=America/New_York:20250628T200000
DTSTAMP:20260422T185126
CREATED:20250418T163020Z
LAST-MODIFIED:20250608T164805Z
UID:3067-1751130000-1751140800@chesapeakestationhoa.org
SUMMARY:Luau 2025
DESCRIPTION:Bring a side dish to share.  And there will be a prize for best luau costume!
URL:https://chesapeakestationhoa.org/event/luau-2025/
LOCATION:Chesapeake Station Beach
END:VEVENT
BEGIN:VEVENT
DTSTART;TZID=America/New_York:20250703T160000
DTEND;TZID=America/New_York:20250703T220000
DTSTAMP:20260422T185126
CREATED:20250609T210348Z
LAST-MODIFIED:20250609T210422Z
UID:3096-1751558400-1751580000@chesapeakestationhoa.org
SUMMARY:Fireworks 2025
DESCRIPTION:The Town of Chesapeake Beach will be holding their annual Independence Day fireworks celebration soon.  This annual event is scheduled for Thursday\, July 3 with a rain date of Saturday\, July 5. CSHOA will be closing the north and south C St. entrances to Chesapeake Station and the entrance to the Overlook.  Beginning at 4:00PM\, vehicle access to Chesapeake Station at Mears Ave. and at 17th St. and at the Overlook entrance WILL BE RESTRICTED to those vehicles that have a valid Chesapeake Station sticker or carry a one-day parking pass.  Up to four one-day guest passes are available for Chesapeake Station households on a first-come\, first-serve basis.  Passes are not required for pedestrians. \nPasses may be requested at cshoa@comcast.net. \nChesapeake Station receives a lot of visitors on that day so please ask your guests to consider carpooling.  If your guests are arriving early\, consider having them park in public areas and walk into Chesapeake Station.  If your guests don’t have a parking pass\, their vehicle will not be admitted even if you vouch for them. \nNOTE – If you lease your property to others\, we may not have your tenant’s contact information.  Please ensure they are aware of the rules and restrictions that will be in place that day. \nParking is permitted in private driveways\, with permission of the householder\, or in the street.  However\, please be considerate and do not park in a location that blocks a driveway or road access.  Remember that you are responsible for the conduct and safety of your guests.  And a final reminder –  use of fireworks is prohibited.  Please instruct your guests that they may not set off firecrackers\, rockets\, or explode anything anywhere in Chesapeake Station\, including your own yard. \nBe aware of the usual traffic plan that the Town will put in place around the time of the start of the Fireworks that is designed to eliminate left hand turns on a portion of Route 261 through the Twin Beaches.  The centerline of Route 261 will be blocked with delineation devices that will prohibit vehicles from making U-turns. Traffic north of Route 260 along Route 261 on the east side of Route 261 must make right turns and exit left on 5th Street to Boyd’s Turn Road to Route 260.  Traffic on the west side of Route 261 must make a right turn and exit on 27th Street to G Street to Route 260. Traffic south of Route 260 along Route 261 on the east side of Route 261 must make a right turn and turn left onto Route 260.  Traffic on the west side of Route 261 must turn right and continue along Route 261 to Summer City Blvd or continue south to Ponds Wood Road and proceed to Maryland Route 4. \nThanks for your cooperation and help\, and we hope you have a wonderful Independence Day celebration.
URL:https://chesapeakestationhoa.org/event/fireworks-2025/
END:VEVENT
BEGIN:VEVENT
DTSTART;TZID=America/New_York:20250806T190000
DTEND;TZID=America/New_York:20250806T210000
DTSTAMP:20260422T185126
CREATED:20250608T165001Z
LAST-MODIFIED:20250724T191022Z
UID:3092-1754506800-1754514000@chesapeakestationhoa.org
SUMMARY:Monthly Board Meeting
DESCRIPTION:Microsoft Teams meeting – Wednesday\, 8/6/2025\, 7:00PM \nJoin on your computer or mobile app \nClick here to join the meeting \nOr call in (audio only) \n321-754-9506 Phone Conference ID: 308 468 11#
URL:https://chesapeakestationhoa.org/event/monthly-board-meeting-15/
LOCATION:Microsoft Teams
END:VEVENT
BEGIN:VEVENT
DTSTART;TZID=America/New_York:20250903T190000
DTEND;TZID=America/New_York:20250903T210000
DTSTAMP:20260422T185126
CREATED:20250818T195036Z
LAST-MODIFIED:20250825T215202Z
UID:3140-1756926000-1756933200@chesapeakestationhoa.org
SUMMARY:Monthly  Board Meeting
DESCRIPTION:Microsoft Teams meeting – Wednesday\, 9/3/2025\, 7:00PM \nJoin on your computer or mobile app \nClick here to join the meeting \nOr call in (audio only) \n321-754-9506 Phone Conference ID: 308 468 11#
URL:https://chesapeakestationhoa.org/event/monthly-board-meeting-16/
LOCATION:Microsoft Teams
END:VEVENT
BEGIN:VEVENT
DTSTART;TZID=America/New_York:20250913T100000
DTEND;TZID=America/New_York:20250913T120000
DTSTAMP:20260422T185126
CREATED:20250818T194554Z
LAST-MODIFIED:20250818T194924Z
UID:3138-1757757600-1757764800@chesapeakestationhoa.org
SUMMARY:Annual Owners Meeting
DESCRIPTION:It’s that time again for the CSHOA  Annual Owners Meeting.  The meeting will be held on Saturday\, September 13 at the Northeast Community Center.  Doors will open at 9:30AM for registration and the business meeting will begin at 10:00AM. \nAll owners of record will be receiving a hard copy of the meeting materials in a few days in the mail.  The package consists of:\nA Cover Letter\nMeeting Agenda\nProxy Form for those who will be unable to attend in person\nProposed 2025 budget\nVolunteer Flyer \nThe cover letter references the Draft 2024 Meeting Minutes\, which is on the agenda for approval by members. \nPlease let us know at cshoa@comcast.net if you do not receive the hard copy mailing!  We may have the wrong address for you. \nA healthy HOA depends on active participation by owners so please try to attend.  If you can’t come\, make sure to return the Proxy Form included in the package or hand it to another owner who will be attending.  A quorum of owners is required at this meeting either by proxy or physical presence in order for us to conduct business. \nWe will be looking for owners who are willing to stand as candidates for the Board of Directors and our various Committees.  Please consider volunteering for a Board or Committee position. \nSee you there!
URL:https://chesapeakestationhoa.org/event/annual-owners-meeting-7/
LOCATION:NorthEast Community Center\, 4075 Gordon Stinnett Ave.\, Chesapeake Beach\, MD\, 20732\, United States
END:VEVENT
BEGIN:VEVENT
DTSTART;TZID=America/New_York:20251001T190000
DTEND;TZID=America/New_York:20251001T210000
DTSTAMP:20260422T185126
CREATED:20251001T144035Z
LAST-MODIFIED:20251001T144035Z
UID:3164-1759345200-1759352400@chesapeakestationhoa.org
SUMMARY:Monthly Board Meeting
DESCRIPTION:Microsoft Teams meeting – Wednesday\, 10/1/2025\, 7:00PM \nJoin on your computer or mobile app \nClick here to join the meeting \nOr call in (audio only) \n321-754-9506 Phone Conference ID: 308 468 11#
URL:https://chesapeakestationhoa.org/event/monthly-board-meeting-17/
LOCATION:Microsoft Teams
END:VEVENT
BEGIN:VEVENT
DTSTART;TZID=America/New_York:20251025T150000
DTEND;TZID=America/New_York:20251025T180000
DTSTAMP:20260422T185126
CREATED:20251001T143545Z
LAST-MODIFIED:20251001T143545Z
UID:3162-1761404400-1761415200@chesapeakestationhoa.org
SUMMARY:Octoberfest 2025
DESCRIPTION:Bring a comfy chair and fun dish to share!
URL:https://chesapeakestationhoa.org/event/octoberfest-2025/
LOCATION:Dentzel Ct.
END:VEVENT
BEGIN:VEVENT
DTSTART;TZID=America/New_York:20251105T190000
DTEND;TZID=America/New_York:20251105T210000
DTSTAMP:20260422T185126
CREATED:20251025T133713Z
LAST-MODIFIED:20251025T133713Z
UID:3171-1762369200-1762376400@chesapeakestationhoa.org
SUMMARY:Monthly Board Meeting
DESCRIPTION:Microsoft Teams meeting – Wednesday\, 11/5/2025\, 7:00PM \nJoin on your computer or mobile app \nClick here to join the meeting \nOr call in (audio only) \n321-754-9506 Phone Conference ID: 308 468 11#
URL:https://chesapeakestationhoa.org/event/monthly-board-meeting-18/
LOCATION:Microsoft Teams
END:VEVENT
BEGIN:VEVENT
DTSTART;TZID=America/New_York:20251203T190000
DTEND;TZID=America/New_York:20251203T210000
DTSTAMP:20260422T185126
CREATED:20251117T200149Z
LAST-MODIFIED:20251125T231537Z
UID:3178-1764788400-1764795600@chesapeakestationhoa.org
SUMMARY:Monthly Board Meeting
DESCRIPTION:Microsoft Teams meeting – Wednesday\, 12/3/2025\, 7:00PM\n(Note: The Board will be meeting in a private Executive Session @ 6:45PM) \nJoin on your computer or mobile app \nClick here to join the meeting \nOr call in (audio only) \n321-754-9506 Phone Conference ID: 308 468 11#
URL:https://chesapeakestationhoa.org/event/monthly-board-meeting-19/
LOCATION:Microsoft Teams
END:VEVENT
BEGIN:VEVENT
DTSTART;TZID=America/New_York:20260107T190000
DTEND;TZID=America/New_York:20260107T210000
DTSTAMP:20260422T185126
CREATED:20251204T144910Z
LAST-MODIFIED:20260105T234628Z
UID:3220-1767812400-1767819600@chesapeakestationhoa.org
SUMMARY:Monthly Board Meeting
DESCRIPTION:Microsoft Teams meeting – Wednesday\, 1/7/2026\, 7:00PM \nJoin on your computer or mobile app \nClick here to join the meeting \nOr call in (audio only) \n321-754-9506 Phone Conference ID: 308 468 11#
URL:https://chesapeakestationhoa.org/event/monthly-board-meeting-20/
LOCATION:Microsoft Teams
END:VEVENT
BEGIN:VEVENT
DTSTART;TZID=America/New_York:20260204T190000
DTEND;TZID=America/New_York:20260204T210000
DTSTAMP:20260422T185126
CREATED:20251204T145002Z
LAST-MODIFIED:20260126T174451Z
UID:3222-1770231600-1770238800@chesapeakestationhoa.org
SUMMARY:Monthly Board Meeting
DESCRIPTION:Microsoft Teams meeting – Wednesday\, 2/4/2026\, 7:00PM \nJoin on your computer or mobile app \nClick here to join the meeting \nOr call in (audio only) \n321-754-9506 Phone Conference ID: 308 468 11#
URL:https://chesapeakestationhoa.org/event/monthly-board-meeting-21/
END:VEVENT
BEGIN:VEVENT
DTSTART;TZID=America/New_York:20260311T190000
DTEND;TZID=America/New_York:20260311T210000
DTSTAMP:20260422T185126
CREATED:20260126T174807Z
LAST-MODIFIED:20260302T202624Z
UID:3246-1773255600-1773262800@chesapeakestationhoa.org
SUMMARY:Monthly Board Meeting
DESCRIPTION:Microsoft Teams meeting – Wednesday\, 3/11/2026\, 7:00PM \nJoin on your computer or mobile app \nClick here to join the meeting \nOr call in (audio only) \n321-754-9506 Phone Conference ID: 308 468 11#
URL:https://chesapeakestationhoa.org/event/monthly-board-meeting-22/
LOCATION:Microsoft Teams
END:VEVENT
BEGIN:VEVENT
DTSTART;TZID=America/New_York:20260406T190000
DTEND;TZID=America/New_York:20260406T210000
DTSTAMP:20260422T185126
CREATED:20260327T122115Z
LAST-MODIFIED:20260401T215412Z
UID:3264-1775502000-1775509200@chesapeakestationhoa.org
SUMMARY:Monthly Board Meeting
DESCRIPTION:Microsoft Teams meeting – Wednesday\, 4/6/2026\, 7:00PM \nThis is an open meeting that any Chesapeake Station owner may attend. \nJoin on your computer or mobile app \nClick here to join the meeting \nOr call in (audio only) \n321-754-9506 Phone Conference ID: 308 468 11#
URL:https://chesapeakestationhoa.org/event/monthly-board-meeting-23/
END:VEVENT
END:VCALENDAR