BEGIN:VCALENDAR
VERSION:2.0
PRODID:-// - ECPv6.15.20//NONSGML v1.0//EN
CALSCALE:GREGORIAN
METHOD:PUBLISH
X-ORIGINAL-URL:https://chesapeakestationhoa.org
X-WR-CALDESC:Events for 
REFRESH-INTERVAL;VALUE=DURATION:PT1H
X-Robots-Tag:noindex
X-PUBLISHED-TTL:PT1H
BEGIN:VTIMEZONE
TZID:America/New_York
BEGIN:DAYLIGHT
TZOFFSETFROM:-0500
TZOFFSETTO:-0400
TZNAME:EDT
DTSTART:20150308T070000
END:DAYLIGHT
BEGIN:STANDARD
TZOFFSETFROM:-0400
TZOFFSETTO:-0500
TZNAME:EST
DTSTART:20151101T060000
END:STANDARD
BEGIN:DAYLIGHT
TZOFFSETFROM:-0500
TZOFFSETTO:-0400
TZNAME:EDT
DTSTART:20160313T070000
END:DAYLIGHT
BEGIN:STANDARD
TZOFFSETFROM:-0400
TZOFFSETTO:-0500
TZNAME:EST
DTSTART:20161106T060000
END:STANDARD
BEGIN:DAYLIGHT
TZOFFSETFROM:-0500
TZOFFSETTO:-0400
TZNAME:EDT
DTSTART:20170312T070000
END:DAYLIGHT
BEGIN:STANDARD
TZOFFSETFROM:-0400
TZOFFSETTO:-0500
TZNAME:EST
DTSTART:20171105T060000
END:STANDARD
END:VTIMEZONE
BEGIN:VEVENT
DTSTART;TZID=America/New_York:20161015T140000
DTEND;TZID=America/New_York:20161015T170000
DTSTAMP:20260422T180208
CREATED:20160927T201208Z
LAST-MODIFIED:20161007T020619Z
UID:782-1476540000-1476550800@chesapeakestationhoa.org
SUMMARY:CSHOA Octoberfest
DESCRIPTION:Plan now to come to the double driveways on Denzel Ct. for Chesapeake Station’s annual October Fest.  We will have bratwurst\, sausages\, hot dogs\, soda\, apple cider and of course\, beer!  You need to bring a side dish and your own chair\, but not your pets\, please. \nJoin your neighbors for fun\, food and music
URL:https://chesapeakestationhoa.org/event/cshoa-octoberfest/
END:VEVENT
BEGIN:VEVENT
DTSTART;TZID=America/New_York:20160910T100000
DTEND;TZID=America/New_York:20160910T120000
DTSTAMP:20260422T180208
CREATED:20160712T172259Z
LAST-MODIFIED:20220910T190938Z
UID:503-1473501600-1473508800@chesapeakestationhoa.org
SUMMARY:Annual Owners' Meeting
DESCRIPTION:Our 2016 Annual Chesapeake Station Owner’s meeting will be held in one of the upstairs meeting rooms of the Northeast Community Center\, next to the Water Park in Chesapeake Beach. A package is being mailed to the owner of each residence\, which contains the meeting agenda\, a ballot for the 2016-2017 Board of Directors’ election\, draft minutes from the 2015 Annual Meeting\, the 2016 budget expenditure report\, the 2017 budget proposal\, and a proxy form (click here to download the form). \nOnly complete the proxy if you cannot be present for the meeting. If you cannot attend\, please fill out and sign the proxy form checking only one box. If you choose to designate another CSHOA member who will be attending the meeting to act as your proxy for voting purposes\, then write his or her name in the blank space provided. Once completed\, mail the proxy form to the CSHOA\, c/o Krystl Cain. Or you may give your completed proxy to another HOA member\, who will be attending\, to bring to the meeting. \nWhile there are several names already listed on the ballot\, nominations for the Board of Directors are still being accepted. If interested in serving your community in this capacity\, please contact Elizabeth Henderson (eahenderson@mac.com) or any current board member to have your name added to the ballot. We will also be taking nominations from the floor. You may vote for no more than five people. If you include a write-in name it will count as one of the five. \nOur room will be open at 9:30 a.m. for registration and refreshments (coffee and pastries) and the meeting should conclude by noon. \nWe look forward to seeing and talking to you at the meeting. \n\n\n\n\nAGENDA \n09:30 Registration and coffee  \n10:00 Call to Order\, Introductions\, and Meeting Agenda Approval – Keith Pardieck (5 min) \nReview and Approval of 2015 Minutes – Elizabeth Henderson (5 min) \n Treasurer’s Report – Roland Schlehuber (20 min) \nFinancial Status & Reallocation of reserve funds \nAssessment Review \n2017 Budget proposal \n            Committee Reports (20 min) \nArchitecture – Sven Thulin \nGrounds — Pam Johnson \nBeach Advisory – Ed Solkowski \nSocial – Vacant.  Do you want to have an Octoberfest this year? \nCommodore — Sven Thulin     \n            President’s Report (Other Activities & Accomplishments; 10 min) \nNew and Improved Website (www.ChesapeakeStationHOA.org) \nMember & Resident Contact Form (CSHOA Directory) \nRental Notification Form \nProperty Inspections (2014 & 2016) \n            Old Business (5 min) \nRevised Resolution 3: Architectural Change Resolution \n11:05 Board of Directors Election (30 min) \nElection committee – candidates \nInput from the floor \nNew Business (25 min) \nDrain failure & necessary repairs \nTraffic & parking passes \nNeighborhood Watch \n12:00 Adjournment of Business Meeting
URL:https://chesapeakestationhoa.org/event/annual-owners-meeting/
LOCATION:NorthEast Community Center\, 4075 Gordon Stinnett Ave.\, Chesapeake Beach\, MD\, 20732\, United States
END:VEVENT
BEGIN:VEVENT
DTSTART;TZID=America/New_York:20160815T190000
DTEND;TZID=America/New_York:20160815T210000
DTSTAMP:20260422T180208
CREATED:20160802T213256Z
LAST-MODIFIED:20160802T213256Z
UID:578-1471287600-1471294800@chesapeakestationhoa.org
SUMMARY:Special Board Meeting
DESCRIPTION:Discuss preparations for Annual Owners’ Meeting
URL:https://chesapeakestationhoa.org/event/special-board-meeting/
LOCATION:NorthEast Community Center\, 4075 Gordon Stinnett Ave.\, Chesapeake Beach\, MD\, 20732\, United States
END:VEVENT
BEGIN:VEVENT
DTSTART;TZID=America/New_York:20160703T210000
DTEND;TZID=America/New_York:20160703T214500
DTSTAMP:20260422T180208
CREATED:20160702T135850Z
LAST-MODIFIED:20220910T195001Z
UID:497-1467579600-1467582300@chesapeakestationhoa.org
SUMMARY:Town Fireworks -- Update
DESCRIPTION:July 3 Update from Town \n \n———————————————————————————————— \n \nFireworks over Chesapeake Beach this evening will start with the onset of darkness.  With essentially no moon tonight\, the fireworks will likely start around 9pm\, somewhat earlier than normal.  The Ryan Forrester Band WILL play as scheduled from 7-9pm\, followed by the fireworks.  There will be no synchronized music with tonight’s fireworks show. \nChesapeake Beach Fireworks – POSTPONED UNTIL JULY 3\n\n\nDue to extremely high winds\, the Chesapeake Beach Fireworks have been cancelled for Friday July 1 and postponed until Sunday Evening July 3. The Ryan Forrester Band WILL play Sunday evening from 7pm until Dusk\, followed by synchronized fireworks (see below). The barges are the platform from which the fireworks are launched\, and they cannot leave the harbor with winds gusting over 30 kts. \nJuly 3\, 2016 – Veterans’ Memorial Park – 7pm to Dusk – Ryan Forrester Band – Family Celebration in the Park. Sponsored by BGE – FREE Event – followed by fireworks with synchronized music\, which may be heard at Veterans’ Memorial Park\, the Chesapeake Beach Water Park\, the Chesapeake Beach Resort & Spa Complex\, or by tuning your radio to 87.9 FM. Rain Date is Sunday July 3. \nTraffic Plan for Twin Beaches on July 3:  The traffic plan is set up to eliminate all left hand turns on a portion of Route 261 going through the Twin Beaches\, eliminating the need to stop traffic randomly and enabling traffic to flow with minimal stopping. The centerline of Route 261 will be blocked with delineation devices that will prohibit vehicles from making U-turns. Traffic north of Route 260 along Route 261 on the east side of Route 261 must make right turns and exit left on 5th Street to Boyd’s Turn Road to Route 260. Traffic on the west side of Route 261 must make a right turn and exit on 27th Street to G Street to Route 260. Traffic south of Route 260 along Route 261 on the east side of Route 261 must make a right turn and must turn left onto Route 260. Traffic on the west side of Route 261 must turn right and continue along Route 261 to Summer City Blvd or continue south to Ponds Wood Road and proceed to Maryland Route 4.  This Traffic Plan will be instituted around the time of the start of Fireworks.
URL:https://chesapeakestationhoa.org/event/town-fireworks-postponed/
END:VEVENT
BEGIN:VEVENT
DTSTART;TZID=America/New_York:20160701T213000
DTEND;TZID=America/New_York:20160701T221500
DTSTAMP:20260422T180208
CREATED:20160615T193513Z
LAST-MODIFIED:20160624T161514Z
UID:411-1467408600-1467411300@chesapeakestationhoa.org
SUMMARY:Town Fireworks Display
DESCRIPTION:(Time Approximate) \n\nThe Town’s Fireworks Over the Bay will be held on Friday\, July 1\, 2016 with a rain date of Sunday\, July 3\, 2016. NOTE THE CHANGE OF DATES FROM PREVIOUS YEARS. This event date has been changed to accommodate the weekend dates of the Independence Day Holiday in 2016.  Note that the June 23\, 2016 issue of the Chesapeake Current has the wrong date listed! \n\n\nBGE and the Town of Chesapeake Beach present Ryan Forrester Band in Veterans’ Memorial Park from 7 PM to Dusk with fireworks to follow. \n \nTraffic Plan for Twin Beaches on July 1:  The traffic plan is set up to eliminate all left hand turns on a portion of Route 261 going through the Twin Beaches\, eliminating the need to stop traffic randomly and enabling traffic to flow with minimal stopping. The centerline of Route 261 will be blocked with delineation devices that will prohibit vehicles from making U-turns. Traffic north of Route 260 along Route 261 on the east side of Route 261 must make right turns and exit left on 5th Street to Boyd’s Turn Road to Route 260. Traffic on the west side of Route 261 must make a right turn and exit on 27th Street to G Street to Route 260. Traffic south of Route 260 along Route 261 on the east side of Route 261 must make a right turn and must turn left onto Route 260. Traffic on the west side of Route 261 must turn right and continue along Route 261 to Summer City Blvd or continue south to Ponds Wood Road and proceed to Maryland Route 4.  This Traffic Plan will be instituted around the time of the start of Fireworks. \nhttp://www.chesapeake-beach.md.us/events_July4thFireworks.htm \n\n\nEXPECT TRAFFIC DELAYS! \n\n\n 
URL:https://chesapeakestationhoa.org/event/town-fireworks-display/
END:VEVENT
END:VCALENDAR